BEGIN:VCALENDAR
VERSION:2.0
PRODID:-//seenema-bw.de//NONSGML kigkonsult.se iCalcreator 2.41.92//
CALSCALE:GREGORIAN
METHOD:PUBLISH
UID:64373764-3465-4136-b762-653632663630
X-WR-CALNAME:iCagenda
X-WR-CALDESC:Event Management Extension for Joomla!
X-WR-RELCALID:3E26604A-50F4-4449-8B3E-E4F4932D05B5
X-WR-TIMEZONE:Europe/Berlin
BEGIN:VTIMEZONE
TZID:Europe/Berlin
TZUNTIL:20271031T010000Z
BEGIN:STANDARD
TZNAME:CET
DTSTART:20251026T030000
TZOFFSETFROM:+0200
TZOFFSETTO:+0100
RDATE:20261025T030000
END:STANDARD
BEGIN:DAYLIGHT
TZNAME:CEST
DTSTART:20260329T020000
TZOFFSETFROM:+0100
TZOFFSETTO:+0200
RDATE:20270328T020000
END:DAYLIGHT
END:VTIMEZONE
BEGIN:VEVENT
UID:30386662-6331-4733-a530-306535616336
DTSTAMP:20260425T134401Z
CATEGORIES:Filme
CLASS:PUBLIC
DESCRIPTION;ALTREP="CID:<FFFF__=0ABBE548DFE235B58f9e8a93d@coffeebean.com>":
 Kati ist gehörlos\, Florian ist blind. Er ist Stadionkommentator beim FC S
 t. Pauli\, sie entdeckt die Welt durch ihre Kamera. Als sie sich im Dialog
 haus Hamburg begegnen\, entsteht eine eigene Sprache – jenseits von Worten
  und Gesten\, getragen von Nähe und Mut. Doch ihre unterschiedlichen Leben
 swelten und die Erwartungen von Familie und Umfeld stellen die Beziehung i
 mmer wieder auf die Probe. Ihre Liebe wirkt für Außenstehende kaum möglich
  und entfaltet gerade deshalb eine besondere Kraft.D 2025Regie: Milan Skro
 banek
DTSTART:20260425T160000Z
DTEND:20260425T160000Z
GEO:00;0
LOCATION:
ORGANIZER:
SEQUENCE:1
SUMMARY:Als wäre es leicht
TRANSP:OPAQUE
URL:https://seenema-bw.de/index.php/programm/110-als-waere-es-leicht/2026-0
 4-25-18-00?layout=vcal
END:VEVENT
END:VCALENDAR
