BEGIN:VCALENDAR
VERSION:2.0
PRODID:-//seenema-bw.de//NONSGML kigkonsult.se iCalcreator 2.41.92//
CALSCALE:GREGORIAN
METHOD:PUBLISH
UID:33636364-6336-4039-a638-613361386330
X-WR-CALNAME:iCagenda
X-WR-CALDESC:Event Management Extension for Joomla!
X-WR-RELCALID:3E26604A-50F4-4449-8B3E-E4F4932D05B5
X-WR-TIMEZONE:Europe/Berlin
BEGIN:VTIMEZONE
TZID:Europe/Berlin
TZUNTIL:20271031T010000Z
BEGIN:STANDARD
TZNAME:CET
DTSTART:20251026T030000
TZOFFSETFROM:+0200
TZOFFSETTO:+0100
RDATE:20261025T030000
END:STANDARD
BEGIN:DAYLIGHT
TZNAME:CEST
DTSTART:20260329T020000
TZOFFSETFROM:+0100
TZOFFSETTO:+0200
RDATE:20270328T020000
END:DAYLIGHT
END:VTIMEZONE
BEGIN:VEVENT
UID:39303038-3664-4335-b731-333263643562
DTSTAMP:20260425T134723Z
CATEGORIES:Filme
CLASS:PUBLIC
DESCRIPTION;ALTREP="CID:<FFFF__=0ABBE548DFE235B58f9e8a93d@coffeebean.com>":
 In EIN SOMMER IN ITALIEN – WM 1990 wird die Geschichte dieses Turniers von
  den Spielern selbst erzählt\, so wie nur sie es damals auf und neben dem 
 Platz erlebt haben\, bebildert mit bislang unveröffentlichten Aufnahmen vo
 n Torwarttrainer und Hobbyfilmer Sepp Maier\, Schätzen aus dem FIFA-Archiv
  und privaten Bildern der  Mannschaftskollegen. Nah\, authentisch\, persön
 lich und voller Emotionen holt der Kino-Dokumentarfilm das Publikum zurück
  in jenen Sommer\, der Deutschland verzauberte.D 2025Regie: Vanessa Goll\,
  Nadja Kölling
DTSTART:20260425T180000Z
DTEND:20260425T180000Z
GEO:00;0
LOCATION:
ORGANIZER:
SEQUENCE:1
SUMMARY:Ein Sommer in Italien - WM 1990
TRANSP:OPAQUE
URL:https://seenema-bw.de/index.php/programm/109-ein-sommer-in-italien-wm-1
 990/2026-04-25-20-00?layout=vcal
END:VEVENT
END:VCALENDAR
